BEGIN:VCALENDAR
VERSION:2.0
PRODID:-//Handprints - ECPv6.15.13.1//NONSGML v1.0//EN
CALSCALE:GREGORIAN
METHOD:PUBLISH
X-ORIGINAL-URL:https://www.handprints.sk
X-WR-CALDESC:Events for Handprints
REFRESH-INTERVAL;VALUE=DURATION:PT1H
X-Robots-Tag:noindex
X-PUBLISHED-TTL:PT1H
BEGIN:VTIMEZONE
TZID:UTC
BEGIN:STANDARD
TZOFFSETFROM:+0000
TZOFFSETTO:+0000
TZNAME:UTC
DTSTART:20190101T000000
END:STANDARD
END:VTIMEZONE
BEGIN:VEVENT
DTSTART;TZID=UTC:20200709T080000
DTEND;TZID=UTC:20200709T170000
DTSTAMP:20260425T225026
CREATED:20200611T224731Z
LAST-MODIFIED:20200611T231806Z
UID:2630-1594281600-1594314000@www.handprints.sk
SUMMARY:Jana's Birthday
DESCRIPTION:
URL:https://www.handprints.sk/event/janas-birthday/
LOCATION:Handprints International Bratislava\, Lazaretská 9\, Bratislava\, 81008\, Slovakia (Slovak Republic)
CATEGORIES:Birthdays
ATTACH;FMTTYPE=image/jpeg:https://www.handprints.sk/wp-content/uploads/2020/06/Birthday-Party.jpg
ORGANIZER;CN="Handprints International":MAILTO:info@handprints.sk
END:VEVENT
BEGIN:VEVENT
DTSTART;TZID=UTC:20200630T170000
DTEND;TZID=UTC:20200630T190000
DTSTAMP:20260425T225026
CREATED:20200611T223852Z
LAST-MODIFIED:20200611T231737Z
UID:2626-1593536400-1593543600@www.handprints.sk
SUMMARY:Graduation Ceremony
DESCRIPTION:Let’s celebrate! Sharks are graduating and we will be there! Dear kindergartners \, invite your families\, grandparents\, uncles\, aunties\, cousins and let’s share our joy together!
URL:https://www.handprints.sk/event/graduation-ceremony/
LOCATION:Handprints International Bratislava\, Lazaretská 9\, Bratislava\, 81008\, Slovakia (Slovak Republic)
CATEGORIES:Events
ORGANIZER;CN="Handprints International":MAILTO:info@handprints.sk
END:VEVENT
BEGIN:VEVENT
DTSTART;TZID=UTC:20200623T090000
DTEND;TZID=UTC:20200623T163000
DTSTAMP:20260425T225026
CREATED:20200616T200015Z
LAST-MODIFIED:20200616T200016Z
UID:2652-1592902800-1592929800@www.handprints.sk
SUMMARY:Field Trip
DESCRIPTION:
URL:https://www.handprints.sk/event/field-trip/
END:VEVENT
BEGIN:VEVENT
DTSTART;TZID=UTC:20200620T080000
DTEND;TZID=UTC:20200620T170000
DTSTAMP:20260425T225026
CREATED:20200611T224505Z
LAST-MODIFIED:20200611T231710Z
UID:2628-1592640000-1592672400@www.handprints.sk
SUMMARY:Jake's Birthday
DESCRIPTION:
URL:https://www.handprints.sk/event/jakes-birthday/
LOCATION:Handprints International Bratislava\, Lazaretská 9\, Bratislava\, 81008\, Slovakia (Slovak Republic)
CATEGORIES:Birthdays
ATTACH;FMTTYPE=image/jpeg:https://www.handprints.sk/wp-content/uploads/2020/06/Birthday-Party.jpg
ORGANIZER;CN="Handprints International":MAILTO:info@handprints.sk
END:VEVENT
BEGIN:VEVENT
DTSTART;TZID=UTC:20200612T080000
DTEND;TZID=UTC:20200612T170000
DTSTAMP:20260425T225026
CREATED:20200611T221545Z
LAST-MODIFIED:20200611T231653Z
UID:2617-1591948800-1591981200@www.handprints.sk
SUMMARY:Natálka's Birthday
DESCRIPTION:
URL:https://www.handprints.sk/event/natalkas-birthday/
LOCATION:Handprints International Bratislava\, Lazaretská 9\, Bratislava\, 81008\, Slovakia (Slovak Republic)
CATEGORIES:Birthdays
ATTACH;FMTTYPE=image/jpeg:https://www.handprints.sk/wp-content/uploads/2020/06/Birthday-Party.jpg
END:VEVENT
BEGIN:VEVENT
DTSTART;TZID=UTC:20200610T080000
DTEND;TZID=UTC:20200612T170000
DTSTAMP:20260425T225026
CREATED:20200611T223421Z
LAST-MODIFIED:20200611T232018Z
UID:2580-1591776000-1591981200@www.handprints.sk
SUMMARY:Family Project
DESCRIPTION:Dear parents\, as you all know\, we are learning about fruits and vegetables this week. Therefore we would like to have some fun with handprint’s families. \n\n\n\nPlease help the children to think about funny ways in which they could use a carrot and give it a go. It can be whatever you can think of\, use your creativity. \n\n\n\nTake a photo of your creations and send it to the school by June 13th and we’ll post your ideas on our webstite/ Facebook page.
URL:https://www.handprints.sk/event/family-project1/
LOCATION:Handprints International Bratislava\, Lazaretská 9\, Bratislava\, 81008\, Slovakia (Slovak Republic)
CATEGORIES:Family Projects
ATTACH;FMTTYPE=image/jpeg:https://www.handprints.sk/wp-content/uploads/2020/06/Carrot-Project-Idea.jpg
ORGANIZER;CN="Handprints International":MAILTO:info@handprints.sk
END:VEVENT
BEGIN:VEVENT
DTSTART;TZID=UTC:20200610T080000
DTEND;TZID=UTC:20200610T170000
DTSTAMP:20260425T225026
CREATED:20200611T221424Z
LAST-MODIFIED:20200611T231608Z
UID:2615-1591776000-1591808400@www.handprints.sk
SUMMARY:Norah's Birthday
DESCRIPTION:
URL:https://www.handprints.sk/event/norahs-birthday/
LOCATION:Handprints International Bratislava\, Lazaretská 9\, Bratislava\, 81008\, Slovakia (Slovak Republic)
CATEGORIES:Birthdays
ATTACH;FMTTYPE=image/jpeg:https://www.handprints.sk/wp-content/uploads/2020/06/Birthday-Party.jpg
END:VEVENT
END:VCALENDAR